BEGIN:VCALENDAR
VERSION:2.0
PRODID:-//ACANTILADO - ECPv6.15.18//NONSGML v1.0//EN
CALSCALE:GREGORIAN
METHOD:PUBLISH
X-ORIGINAL-URL:https://www.acantilado.es
X-WR-CALDESC:Eventos para ACANTILADO
REFRESH-INTERVAL;VALUE=DURATION:PT1H
X-Robots-Tag:noindex
X-PUBLISHED-TTL:PT1H
BEGIN:VTIMEZONE
TZID:Europe/Madrid
BEGIN:DAYLIGHT
TZOFFSETFROM:+0100
TZOFFSETTO:+0200
TZNAME:CEST
DTSTART:20240331T010000
END:DAYLIGHT
BEGIN:STANDARD
TZOFFSETFROM:+0200
TZOFFSETTO:+0100
TZNAME:CET
DTSTART:20241027T010000
END:STANDARD
BEGIN:DAYLIGHT
TZOFFSETFROM:+0100
TZOFFSETTO:+0200
TZNAME:CEST
DTSTART:20250330T010000
END:DAYLIGHT
BEGIN:STANDARD
TZOFFSETFROM:+0200
TZOFFSETTO:+0100
TZNAME:CET
DTSTART:20251026T010000
END:STANDARD
BEGIN:DAYLIGHT
TZOFFSETFROM:+0100
TZOFFSETTO:+0200
TZNAME:CEST
DTSTART:20260329T010000
END:DAYLIGHT
BEGIN:STANDARD
TZOFFSETFROM:+0200
TZOFFSETTO:+0100
TZNAME:CET
DTSTART:20261025T010000
END:STANDARD
END:VTIMEZONE
BEGIN:VEVENT
DTSTART;TZID=Europe/Madrid:20250204T190000
DTEND;TZID=Europe/Madrid:20250204T200000
DTSTAMP:20260419T044258
CREATED:20250129T103618Z
LAST-MODIFIED:20250203T101150Z
UID:10001330-1738695600-1738699200@www.acantilado.es
SUMMARY:Diálogo con Marta Carnicero Hernanz en El Prat de Llobregat
DESCRIPTION:Marta Carnicero\, autora de Matrioskas\, participará en el diálogo Cuando el conflicto nos convierte en bestias dentro del ciclo de pensamiento contemporáneo\, coordinado por Rosa Ribas\, el próximo martes 4 de febrero en Cèntric Espai Cultural a las 19 h. \nMarta Carnicero Hernanz (Barcelona\, 1974) es ingeniera industrial y profesora. Acantilado ha publicado las novelas El cielo según Google\, Coníferas y Matrioskas.
URL:https://www.acantilado.es/evento/conferencia-de-marta-carnicero-hernanz-en-el-prat-de-llobregat/
LOCATION:Cèntric Espai Cultural\, Plaça de Catalunya\, 39-41\, El Prat de Llobregat\, Barcelona\, 08820\, Spain
CATEGORIES:Conferencias
GEO:41.3120158;2.0959429
X-APPLE-STRUCTURED-LOCATION;VALUE=URI;X-ADDRESS=Cèntric Espai Cultural Plaça de Catalunya 39-41 El Prat de Llobregat Barcelona 08820 Spain;X-APPLE-RADIUS=500;X-TITLE=Plaça de Catalunya\, 39-41:geo:2.0959429,41.3120158
END:VEVENT
BEGIN:VEVENT
DTSTART;TZID=Europe/Madrid:20250128T190000
DTEND;TZID=Europe/Madrid:20250128T200000
DTSTAMP:20260419T044258
CREATED:20250120T122728Z
LAST-MODIFIED:20250123T143816Z
UID:10001325-1738090800-1738094400@www.acantilado.es
SUMMARY:Conferencia de Antonio Monegal en El Prat de Llobregat
DESCRIPTION:Antonio Monegal\, autor de Como el aire que respiramos (Premio Nacional de Ensayo 2023) y El silencio de la guerra\, impartirá la conferencia ¿Todo documento es un documento de barbarie? dentro del ciclo de pensamiento contemporáneo\, coordinado por Alberto Lladó\, el próximo martes 28 de enero en Cèntric Espai Cultural a las 19 h. \nAntonio Monegal (Barcelona\, 1957) es catedrático de Teoría de la Literatura y Literatura Comparada en la Universidad Pompeu Fabra. Licenciado en Filosofía por la Universidad de Barcelona\, se doctoró en Harvard en 1989 y ejerció la docencia en Cornell University hasta su regreso a España. En 2004 comisarió\, junto con Francesc Torres y José María Ridao\, la exposición En guerra en el CCCB. Es autor de los libros Luis Buñuel de la literatura al cine (1993) y En los límites de la diferencia. Poesía e imagen en las vanguardias hispánicas (1998)\, editor de obras de García Lorca y coordinador de Política y (po)ética de las imágenes de guerra (2007). En 2023 ganó el Premio Nacional de Ensayo por Como el aire que respiramos (Acantilado\, 2022).
URL:https://www.acantilado.es/evento/conferencia-de-antonio-monegal-en-el-prat-de-llobregat/
LOCATION:Cèntric Espai Cultural\, Plaça de Catalunya\, 39-41\, El Prat de Llobregat\, Barcelona\, 08820\, Spain
CATEGORIES:Conferencias
GEO:41.3120158;2.0959429
X-APPLE-STRUCTURED-LOCATION;VALUE=URI;X-ADDRESS=Cèntric Espai Cultural Plaça de Catalunya 39-41 El Prat de Llobregat Barcelona 08820 Spain;X-APPLE-RADIUS=500;X-TITLE=Plaça de Catalunya\, 39-41:geo:2.0959429,41.3120158
END:VEVENT
END:VCALENDAR