BEGIN:VCALENDAR
VERSION:2.0
PRODID:-//ACANTILADO - ECPv6.15.18//NONSGML v1.0//EN
CALSCALE:GREGORIAN
METHOD:PUBLISH
X-ORIGINAL-URL:https://www.acantilado.es
X-WR-CALDESC:Eventos para ACANTILADO
REFRESH-INTERVAL;VALUE=DURATION:PT1H
X-Robots-Tag:noindex
X-PUBLISHED-TTL:PT1H
BEGIN:VTIMEZONE
TZID:Europe/Madrid
BEGIN:DAYLIGHT
TZOFFSETFROM:+0100
TZOFFSETTO:+0200
TZNAME:CEST
DTSTART:20240331T010000
END:DAYLIGHT
BEGIN:STANDARD
TZOFFSETFROM:+0200
TZOFFSETTO:+0100
TZNAME:CET
DTSTART:20241027T010000
END:STANDARD
BEGIN:DAYLIGHT
TZOFFSETFROM:+0100
TZOFFSETTO:+0200
TZNAME:CEST
DTSTART:20250330T010000
END:DAYLIGHT
BEGIN:STANDARD
TZOFFSETFROM:+0200
TZOFFSETTO:+0100
TZNAME:CET
DTSTART:20251026T010000
END:STANDARD
BEGIN:DAYLIGHT
TZOFFSETFROM:+0100
TZOFFSETTO:+0200
TZNAME:CEST
DTSTART:20260329T010000
END:DAYLIGHT
BEGIN:STANDARD
TZOFFSETFROM:+0200
TZOFFSETTO:+0100
TZNAME:CET
DTSTART:20261025T010000
END:STANDARD
END:VTIMEZONE
BEGIN:VEVENT
DTSTART;TZID=Europe/Madrid:20250522T183000
DTEND;TZID=Europe/Madrid:20250522T193000
DTSTAMP:20260421T122513
CREATED:20250513T095712Z
LAST-MODIFIED:20250519T111044Z
UID:10001362-1747938600-1747942200@www.acantilado.es
SUMMARY:Diálogo entre Marta Carnicero y Enrique Vila-Matas en Valencia
DESCRIPTION:El jueves 22 de mayo tendrá lugar un diálogo entre los escritores Marta Carnicero Hernanz y Enrique Vila-Matas en el CaixaForum de Valencia a las 18:30 h. \nEsta actividad forma parte del Festival En otras palabras. \nConsigue tu entrada aquí. \nMarta Carnicero Hernanz (Barcelona\, 1974) es ingeniera industrial y profesora. Acantilado ha publicado las novelas El cielo según Google\, Coníferas y Matrioskas.
URL:https://www.acantilado.es/evento/dialogo-entre-marta-carnicero-y-enrique-vila-matas-en-valencia/
LOCATION:CaixaForum Valencia\, Ciutat de les Arts i les Ciències\, C/ Eduardo Primo Yúfera\, 1A\, Valencia\, Valencia\, 46013
CATEGORIES:Coloquio / Diálogo
ORGANIZER;CN="CaixaForum Valencia":MAILTO:icaixaforumvalencia@magmacultura.com
GEO:39.5014903;-0.3324856
X-APPLE-STRUCTURED-LOCATION;VALUE=URI;X-ADDRESS=CaixaForum Valencia Ciutat de les Arts i les Ciències C/ Eduardo Primo Yúfera 1A Valencia Valencia 46013;X-APPLE-RADIUS=500;X-TITLE=Ciutat de les Arts i les Ciències\, C/ Eduardo Primo Yúfera\, 1A:geo:-0.3324856,39.5014903
END:VEVENT
END:VCALENDAR