BEGIN:VCALENDAR
VERSION:2.0
PRODID:-//ACANTILADO - ECPv6.15.18//NONSGML v1.0//EN
CALSCALE:GREGORIAN
METHOD:PUBLISH
X-ORIGINAL-URL:https://www.acantilado.es
X-WR-CALDESC:Eventos para ACANTILADO
REFRESH-INTERVAL;VALUE=DURATION:PT1H
X-Robots-Tag:noindex
X-PUBLISHED-TTL:PT1H
BEGIN:VTIMEZONE
TZID:Europe/Madrid
BEGIN:DAYLIGHT
TZOFFSETFROM:+0100
TZOFFSETTO:+0200
TZNAME:CEST
DTSTART:20170326T010000
END:DAYLIGHT
BEGIN:STANDARD
TZOFFSETFROM:+0200
TZOFFSETTO:+0100
TZNAME:CET
DTSTART:20171029T010000
END:STANDARD
BEGIN:DAYLIGHT
TZOFFSETFROM:+0100
TZOFFSETTO:+0200
TZNAME:CEST
DTSTART:20180325T010000
END:DAYLIGHT
BEGIN:STANDARD
TZOFFSETFROM:+0200
TZOFFSETTO:+0100
TZNAME:CET
DTSTART:20181028T010000
END:STANDARD
BEGIN:DAYLIGHT
TZOFFSETFROM:+0100
TZOFFSETTO:+0200
TZNAME:CEST
DTSTART:20190331T010000
END:DAYLIGHT
BEGIN:STANDARD
TZOFFSETFROM:+0200
TZOFFSETTO:+0100
TZNAME:CET
DTSTART:20191027T010000
END:STANDARD
END:VTIMEZONE
BEGIN:VEVENT
DTSTART;TZID=Europe/Madrid:20180920T190000
DTEND;TZID=Europe/Madrid:20180920T203000
DTSTAMP:20260418T232525
CREATED:20180919T074613Z
LAST-MODIFIED:20180919T074613Z
UID:10000647-1537470000-1537475400@www.acantilado.es
SUMMARY:Conferencia de Josep Maria Esquirol en Barcelona
DESCRIPTION:Josep Maria Esquirol participará en el ciclo de pensamiento Pensar el mal en el mundo contemporáneo con su conferencia El mal como problema filosófico. Topografía y cuestiones nucleares\, el próximo jueves 20 de septiembre. \n¿Cuáles son las distinciones conceptuales y las definiciones dentro de un tema tan amplio como es el mal? Mal moral\, mal político\, mal físico… Esta es una aproximación a los núcleos más punzantes del concepto de mal\, y también a la forma como diversas filosofías se han enfrentado a la definición de esta idea: desde planteamientos que terminan por negar la existencia del mal\, hasta posiciones que buscan de qué manera la reflexión teórica puede apoyar la acción práctica. \nEl acto será en CaixaForum Barcelona a las 19h. \nMás información sobre las entradas\, aquí.
URL:https://www.acantilado.es/evento/conferencia-de-josep-maria-esquirol-en-barcelona/
LOCATION:CaixaForum Barcelona\, Avinguda Francesc Ferrer i Guàrdia\, 6-8\, Barcelona\, Barcelona\, 08038\, España
CATEGORIES:Conferencias
ORGANIZER;CN="CaixaForum Barcelona":MAILTO:icaixaforumbcn@magmacultura.net
GEO:41.3710775;2.1498742
X-APPLE-STRUCTURED-LOCATION;VALUE=URI;X-ADDRESS=CaixaForum Barcelona Avinguda Francesc Ferrer i Guàrdia 6-8 Barcelona Barcelona 08038 España;X-APPLE-RADIUS=500;X-TITLE=Avinguda Francesc Ferrer i Guàrdia\, 6-8:geo:2.1498742,41.3710775
END:VEVENT
END:VCALENDAR