BEGIN:VCALENDAR
VERSION:2.0
PRODID:-//ACANTILADO - ECPv6.15.18//NONSGML v1.0//EN
CALSCALE:GREGORIAN
METHOD:PUBLISH
X-ORIGINAL-URL:https://www.acantilado.es
X-WR-CALDESC:Eventos para ACANTILADO
REFRESH-INTERVAL;VALUE=DURATION:PT1H
X-Robots-Tag:noindex
X-PUBLISHED-TTL:PT1H
BEGIN:VTIMEZONE
TZID:Europe/Madrid
BEGIN:DAYLIGHT
TZOFFSETFROM:+0100
TZOFFSETTO:+0200
TZNAME:CEST
DTSTART:20180325T010000
END:DAYLIGHT
BEGIN:STANDARD
TZOFFSETFROM:+0200
TZOFFSETTO:+0100
TZNAME:CET
DTSTART:20181028T010000
END:STANDARD
BEGIN:DAYLIGHT
TZOFFSETFROM:+0100
TZOFFSETTO:+0200
TZNAME:CEST
DTSTART:20190331T010000
END:DAYLIGHT
BEGIN:STANDARD
TZOFFSETFROM:+0200
TZOFFSETTO:+0100
TZNAME:CET
DTSTART:20191027T010000
END:STANDARD
BEGIN:DAYLIGHT
TZOFFSETFROM:+0100
TZOFFSETTO:+0200
TZNAME:CEST
DTSTART:20200329T010000
END:DAYLIGHT
BEGIN:STANDARD
TZOFFSETFROM:+0200
TZOFFSETTO:+0100
TZNAME:CET
DTSTART:20201025T010000
END:STANDARD
END:VTIMEZONE
BEGIN:VEVENT
DTSTART;TZID=Europe/Madrid:20190409T190000
DTEND;TZID=Europe/Madrid:20190409T200000
DTSTAMP:20260420T125403
CREATED:20190402T101708Z
LAST-MODIFIED:20190402T103131Z
UID:10000734-1554836400-1554840000@www.acantilado.es
SUMMARY:Encuentro con la traductora Selma Ancira en Huesca
DESCRIPTION:Encuentro con Selma Ancira\, traductora de literatura rusa y de literatura griega moderna. Ha traducido\, entre otros autores\, a Pushkin\, a Dostoievski\, a Bunin\, a Bulgákov y a Pasternak\, así como a Seferis\, a Ritsos\, a Kampanelis y a María Iordanidu. \nEl acto será en la Biblioteca municipal Ramón J. Sender el próximo martes 9 de abril a las 19:00h. \nSelma Ancira descubrió al público hispanoparlante la obra de Marina Tsvietáieva de quien ha traducido casi la totalidad de su prosa. En 2008 recibió la Medalla Pushkin\, máximo galardón con el que Rusia condecora a los artistas extranjeros. En 2009 obtuvo el XII Premio de Traducción Ángel Crespo por su traducción de Viva voz de vida\, de Marina Tsvietáieva. En 2010 recibió en la ciudad rusa de Elábuga el Premio de Literatura Marina Tsvietáieva por sus traducciones de la poeta\, y en Koktebel\, Ucrania\, fue merecedora del Premio Literario Maximilián Voloshin. En 2011 ha sido galardonada con el Premio Nacional de Traducción por el conjunto de su obra. Reside en Barcelona desde 1988. En 2012 ha recibido el Premio de Traducción Literaria Tomás Segovia\, y en 2016 el Premio Read Russia a la mejor traducción.
URL:https://www.acantilado.es/evento/encuentro-con-la-traductora-selma-ancira-en-huesca/
LOCATION:Biblioteca Ramón J. Sender\, Calle San Vicente de Paul\, 69\, Huesca\, 22006
CATEGORIES:Conferencias
GEO:42.1425496;-0.3967716
X-APPLE-STRUCTURED-LOCATION;VALUE=URI;X-ADDRESS=Biblioteca Ramón J. Sender Calle San Vicente de Paul 69 Huesca 22006;X-APPLE-RADIUS=500;X-TITLE=Calle San Vicente de Paul\, 69:geo:-0.3967716,42.1425496
END:VEVENT
END:VCALENDAR